BEGIN:VCALENDAR
VERSION:2.0
PRODID:-//Iglesia Cristo en Nosotros - ECPv6.15.20//NONSGML v1.0//EN
CALSCALE:GREGORIAN
METHOD:PUBLISH
X-WR-CALNAME:Iglesia Cristo en Nosotros
X-ORIGINAL-URL:https://www.icencr.com
X-WR-CALDESC:Eventos para Iglesia Cristo en Nosotros
REFRESH-INTERVAL;VALUE=DURATION:PT1H
X-Robots-Tag:noindex
X-PUBLISHED-TTL:PT1H
BEGIN:VTIMEZONE
TZID:UTC
BEGIN:STANDARD
TZOFFSETFROM:+0000
TZOFFSETTO:+0000
TZNAME:UTC
DTSTART:20250101T000000
END:STANDARD
END:VTIMEZONE
BEGIN:VEVENT
DTSTART;TZID=UTC:20260603T190000
DTEND;TZID=UTC:20260704T210000
DTSTAMP:20260421T103840
CREATED:20260410T163009Z
LAST-MODIFIED:20260417T191126Z
UID:101840-1780513200-1783198800@www.icencr.com
SUMMARY:Curso de Hermeneútica
DESCRIPTION:La hermenéutica bíblica es el arte de interpretar las Escrituras\, estableciendo principios y métodos para entender el mensaje original y aplicarlo correctamente hoy. Busca descubrir la intención del autor considerando el contexto histórico\, gramatical y literario\, sirviendo de puente entre el texto antiguo y el lector moderno. Es un curso que te permitirá interpretar correctamente la Biblia que lees cada día. \n			\n			\n				\n				\n				\n				\n			\n				\n				\n				\n				\n				\n				\n			\n				\n				\n				\n				\n				\n			\n				\n				\n				\n				\n				Inscripción al curso \n				\n				\n				\n					\n						\n				\n				\n				\n				\n				Nombre Completo \n				\n			 \n				\n				\n				\n				\n				Teléfono\n				\n			 \n				\n				\n				\n				\n				Correo Electrónico \n				\n			 \n						\n						\n							\n							Inscribirme
URL:https://www.icencr.com/event/curso-de-hermeneutica/
ATTACH;FMTTYPE=image/jpeg:https://www.icencr.com/wp-content/uploads/2026/04/WhatsApp-Image-2026-04-08-at-19.04.48.avif
END:VEVENT
BEGIN:VEVENT
DTSTART;TZID=UTC:20260704T090000
DTEND;TZID=UTC:20260704T113000
DTSTAMP:20260421T103840
CREATED:20260224T193727Z
LAST-MODIFIED:20260224T193735Z
UID:101493-1783155600-1783164600@www.icencr.com
SUMMARY:Coronas de Gloria
DESCRIPTION:Un espacio dedicado con amor a nuestros adultos mayores\, donde honramos su vida\, experiencia y legado. En cada evento reciben Palabra de Dios que fortalece y renueva\, y participan en actividades diseñadas especialmente para su etapa de vida. \nPorque creemos que cada temporada tiene propósito\, y que en la madurez también florece la gracia y la sabiduría del Señor.
URL:https://www.icencr.com/event/coronas-de-gloria-3/
LOCATION:Auditorio Cristo en Nosotros\, Dirección: C. 4\, Provincia de Cartago\, Cartago\, Barrio Sabana Grande\, Cartago\, Cartago\, 10301\, Costa Rica
ATTACH;FMTTYPE=image/png:https://www.icencr.com/wp-content/uploads/2026/01/coronas-1.png
END:VEVENT
END:VCALENDAR